BEGIN:VCALENDAR
VERSION:2.0
PRODID:-//InStaff und Jobs GmbH
BEGIN:VEVENT
UID:455ce3653febf7e276b4fa59b70554d4@instaff.jobs
DTSTAMP:20260422T081353Z
LOCATION:Jahrhunderthalle\, Pfaffenwiese 301\, 65929 Frankfurt
DTSTART;TZID=Europe/Brussels:20260531T070000Z
DTEND;TZID=Europe/Brussels:20260531T160000Z
SUMMARY:Festival4Family 2026
DESCRIPTION:https://www.google.com/maps/search/?api=1&query=Jahrhunderthalle%2C+Pfaffenwiese+301%2C+65929+Frankfurt
END:VEVENT
END:VCALENDAR