BEGIN:VCALENDAR
VERSION:2.0
PRODID:-//InStaff und Jobs GmbH
BEGIN:VEVENT
UID:c6c07c7faa25d716cf0405f390298420@instaff.jobs
DTSTAMP:20260422T081151Z
LOCATION:Messe Frankfurt\, Ludwig-Erhard-Anlage 1\, 60327 Frankfurt am Main
DTSTART;TZID=Europe/Brussels:20261105T070000Z
DTEND;TZID=Europe/Brussels:20261107T160000Z
SUMMARY:Franchise Expo Germany 2026
DESCRIPTION:https://www.google.com/maps/search/?api=1&query=Messe+Frankfurt%2C+Ludwig-Erhard-Anlage+1%2C+60327+Frankfurt+am+Main
END:VEVENT
END:VCALENDAR