BEGIN:VCALENDAR
VERSION:2.0
PRODID:-//InStaff und Jobs GmbH
BEGIN:VEVENT
UID:fb8d25869b17ff24c843129884754fc7@instaff.jobs
DTSTAMP:20260422T081220Z
LOCATION:Gesellschaftshaus Palmengarten\, Palmengartenstraße 11\, 60325 Frankfurt am Main
DTSTART;TZID=Europe/Brussels:20260211T070000Z
DTEND;TZID=Europe/Brussels:20260212T160000Z
SUMMARY:Frankfurt Digital Finance 2026
DESCRIPTION:https://www.google.com/maps/search/?api=1&query=Gesellschaftshaus+Palmengarten%2C+Palmengartenstraße+11%2C+60325+Frankfurt+am+Main
END:VEVENT
END:VCALENDAR