BEGIN:VCALENDAR
VERSION:2.0
PRODID:-//InStaff und Jobs GmbH
BEGIN:VEVENT
UID:5fa7d8a480a1578e0250cd3770b2f682@instaff.jobs
DTSTAMP:20260422T080926Z
LOCATION:Alte Oper\, Opernpl\. 1\, 60313 Frankfurt am Main
DTSTART;TZID=Europe/Brussels:20260616T070000Z
DTEND;TZID=Europe/Brussels:20260616T160000Z
SUMMARY:GROWTH MINDED SUPERHEROES 2026
DESCRIPTION:https://www.google.com/maps/search/?api=1&query=Alte+Oper%2C+Opernpl.+1%2C+60313+Frankfurt+am+Main
END:VEVENT
END:VCALENDAR