BEGIN:VCALENDAR
VERSION:2.0
PRODID:-//InStaff und Jobs GmbH
BEGIN:VEVENT
UID:4e0a26eefe99856eeee9cf541f897831@instaff.jobs
DTSTAMP:20260425T123810Z
LOCATION:Messe Frankfurt\, Ludwig-Erhard-Anlage 1\, 60327 Frankfurt
DTSTART;TZID=Europe/Brussels:20260519T070000Z
DTEND;TZID=Europe/Brussels:20260521T160000Z
SUMMARY:IMEX 2026
DESCRIPTION:https://www.google.com/maps/search/?api=1&query=Messe+Frankfurt%2C+Ludwig-Erhard-Anlage+1%2C+60327+Frankfurt
END:VEVENT
END:VCALENDAR