BEGIN:VCALENDAR
VERSION:2.0
PRODID:-//InStaff und Jobs GmbH
BEGIN:VEVENT
UID:5d534f73db2b18ea5dcbfb073f9959d3@instaff.jobs
DTSTAMP:20260422T081353Z
LOCATION:Messe Frankfurt - Halle 1\.2\, Ludwig-Erhard-Anlage 1\, 60327 Frankfurt am Main
DTSTART;TZID=Europe/Brussels:20260110T070000Z
DTEND;TZID=Europe/Brussels:20260111T160000Z
SUMMARY:TrauDich! Frankfurt 2026
DESCRIPTION:https://www.google.com/maps/search/?api=1&query=Messe+Frankfurt+-+Halle+1.2%2C+Ludwig-Erhard-Anlage+1%2C+60327+Frankfurt+am+Main
END:VEVENT
END:VCALENDAR