BEGIN:VCALENDAR
VERSION:2.0
PRODID:-//InStaff und Jobs GmbH
BEGIN:VEVENT
UID:084111095d5b5d5d086df7591054c141@instaff.jobs
DTSTAMP:20260421T081614Z
LOCATION:Flughafen Münster\/Osnabrück \(FMO\)\, Airportallee 1\, 48268 Greven
DTSTART;TZID=Europe/Brussels:20261114T070000Z
DTEND;TZID=Europe/Brussels:20261115T160000Z
SUMMARY:6 jobmesse Münster/Osnabrück 2026
DESCRIPTION:https://www.google.com/maps/search/?api=1&query=Flughafen+Münster/Osnabrück+(FMO)%2C+Airportallee+1%2C+48268+Greven
END:VEVENT
END:VCALENDAR