BEGIN:VCALENDAR
VERSION:2.0
PRODID:-//InStaff und Jobs GmbH
BEGIN:VEVENT
UID:24899ff82f43ba76bcca6dde7f400734@instaff.jobs
DTSTAMP:20260423T191233Z
LOCATION:Hamburg Messe Halle A1 und A4\, Messeplatz 1\, 20357 Hamburg
DTSTART;TZID=Europe/Brussels:20261006T070000Z
DTEND;TZID=Europe/Brussels:20261008T160000Z
SUMMARY:LEat con 2026
DESCRIPTION:https://www.google.com/maps/search/?api=1&query=Hamburg+Messe+Halle+A1+und+A4%2C+Messeplatz+1%2C+20357+Hamburg
END:VEVENT
END:VCALENDAR