BEGIN:VCALENDAR
VERSION:2.0
PRODID:-//InStaff und Jobs GmbH
BEGIN:VEVENT
UID:f00ddce556bcbae07e5337ef2d47b3a1@instaff.jobs
DTSTAMP:20260421T082836Z
LOCATION:MesseHalle Schnelsen\, Modering 1a\, 22457 Hamburg
DTSTART;TZID=Europe/Brussels:20261010T070000Z
DTEND;TZID=Europe/Brussels:20261011T160000Z
SUMMARY:TrauDich! Hamburg 2026
DESCRIPTION:https://www.google.com/maps/search/?api=1&query=MesseHalle+Schnelsen%2C+Modering+1a%2C+22457+Hamburg
END:VEVENT
END:VCALENDAR