BEGIN:VCALENDAR
VERSION:2.0
PRODID:-//InStaff und Jobs GmbH
BEGIN:VEVENT
UID:47296ea4a585b09daa790b14a6e7210d@instaff.jobs
DTSTAMP:20260420T225246Z
LOCATION:Heilbronner Harmonie \(Kongresshaus\)\, Allee 28\, 74072 Heilbronn
DTSTART;TZID=Europe/Brussels:20260624T070000Z
DTEND;TZID=Europe/Brussels:20260625T160000Z
SUMMARY:vocatium Heilbronn-Franken 2026
DESCRIPTION:https://www.google.com/maps/search/?api=1&query=Heilbronner+Harmonie+(Kongresshaus)%2C+Allee+28%2C+74072+Heilbronn
END:VEVENT
END:VCALENDAR