BEGIN:VCALENDAR
VERSION:2.0
PRODID:-//InStaff und Jobs GmbH
BEGIN:VEVENT
UID:78ebadf1c2d4695b02e25381f212adde@instaff.jobs
DTSTAMP:20260425T104257Z
LOCATION:CinemaxX\, Kaistraße 54-56\, 24114 Kiel
DTSTART;TZID=Europe/Brussels:20261110T070000Z
DTEND;TZID=Europe/Brussels:20261110T160000Z
SUMMARY:AZUBISPOT Kiel 2026
DESCRIPTION:https://www.google.com/maps/search/?api=1&query=CinemaxX%2C+Kaistraße+54-56%2C+24114+Kiel
END:VEVENT
END:VCALENDAR