BEGIN:VCALENDAR
VERSION:2.0
PRODID:-//InStaff und Jobs GmbH
BEGIN:VEVENT
UID:b4e2459f488b2ee094e49a7478e181a7@instaff.jobs
DTSTAMP:20260423T211924Z
LOCATION:Köln Messe\, Messeplatz 1\, 50679 Köln
DTSTART;TZID=Europe/Brussels:20260915T070000Z
DTEND;TZID=Europe/Brussels:20260917T160000Z
SUMMARY:Zukunft Personal Europe 2026
DESCRIPTION:https://www.google.com/maps/search/?api=1&query=Köln+Messe%2C+Messeplatz+1%2C+50679+Köln
END:VEVENT
END:VCALENDAR