BEGIN:VCALENDAR
VERSION:2.0
PRODID:-//InStaff und Jobs GmbH
BEGIN:VEVENT
UID:1a627e71e95dccf797ce5dc249f39f17@instaff.jobs
DTSTAMP:20260425T125559Z
LOCATION:Bodenseeforum Konstanz\, Reichenaustr\. 21\, 78467 Konstanz
DTSTART;TZID=Europe/Brussels:20260717T070000Z
DTEND;TZID=Europe/Brussels:20260719T160000Z
SUMMARY:ARTe Kunstmesse Konstanz 2026
DESCRIPTION:https://www.google.com/maps/search/?api=1&query=Bodenseeforum+Konstanz%2C+Reichenaustr.+21%2C+78467+Konstanz
END:VEVENT
END:VCALENDAR