BEGIN:VCALENDAR
VERSION:2.0
PRODID:-//InStaff und Jobs GmbH
BEGIN:VEVENT
UID:5beca0c28f0c416ab5388b5b92e48ed9@instaff.jobs
DTSTAMP:20260421T081616Z
LOCATION:Congress Center Leipzig\, Seehausener Allee 1\, 04356 Leipzig
DTSTART;TZID=Europe/Brussels:20260422T070000Z
DTEND;TZID=Europe/Brussels:20260424T160000Z
SUMMARY:143 Deutscher Chirurgie Kongress 2026
DESCRIPTION:https://www.google.com/maps/search/?api=1&query=Congress+Center+Leipzig%2C+Seehausener+Allee+1%2C+04356+Leipzig
END:VEVENT
END:VCALENDAR