BEGIN:VCALENDAR
VERSION:2.0
PRODID:-//InStaff und Jobs GmbH
BEGIN:VEVENT
UID:d74238dbdafe71c6dcc805fbfd77a2ec@instaff.jobs
DTSTAMP:20260422T094122Z
LOCATION:Globana Trade Center Leipzig\/Halle\, Münchener Ring 2\, 04435 Schkeuditz
DTSTART;TZID=Europe/Brussels:20260512T070000Z
DTEND;TZID=Europe/Brussels:20260513T160000Z
SUMMARY:vocatium Leipzig 2026
DESCRIPTION:https://www.google.com/maps/search/?api=1&query=Globana+Trade+Center+Leipzig/Halle%2C+Münchener+Ring+2%2C+04435+Schkeuditz
END:VEVENT
END:VCALENDAR