BEGIN:VCALENDAR
VERSION:2.0
PRODID:-//InStaff und Jobs GmbH
BEGIN:VEVENT
UID:a21dcd9e0f13e24f42978eb6018f8cbd@instaff.jobs
DTSTAMP:20260420T205358Z
LOCATION:Emslandhallen Lingen\, Lindenstraße 24A\, 49808 Lingen \(Ems\)
DTSTART;TZID=Europe/Brussels:20260624T070000Z
DTEND;TZID=Europe/Brussels:20260625T160000Z
SUMMARY:vocatium Emsland/Grafschaft Bentheim 2026
DESCRIPTION:https://www.google.com/maps/search/?api=1&query=Emslandhallen+Lingen%2C+Lindenstraße+24A%2C+49808+Lingen+(Ems)
END:VEVENT
END:VCALENDAR