BEGIN:VCALENDAR
VERSION:2.0
PRODID:-//InStaff und Jobs GmbH
BEGIN:VEVENT
UID:a9adb325b788de0adcb7748a70884a92@instaff.jobs
DTSTAMP:20260426T031305Z
LOCATION:Festung Mark\, Hohepfortewall 1\, 39104 Magdeburg
DTSTART;TZID=Europe/Brussels:20260304T070000Z
DTEND;TZID=Europe/Brussels:20260304T160000Z
SUMMARY:Jobmesse Magdeburg 2026
DESCRIPTION:https://www.google.com/maps/search/?api=1&query=Festung+Mark%2C+Hohepfortewall+1%2C+39104+Magdeburg
END:VEVENT
END:VCALENDAR