BEGIN:VCALENDAR
VERSION:2.0
PRODID:-//InStaff und Jobs GmbH
BEGIN:VEVENT
UID:678470645f24069c0a5542f712f1941c@instaff.jobs
DTSTAMP:20260424T215648Z
LOCATION:Cineplex\, Donauwörther Str\. 53\, 86405 Meitingen
DTSTART;TZID=Europe/Brussels:20261001T070000Z
DTEND;TZID=Europe/Brussels:20261001T160000Z
SUMMARY:AZUBISPOT Meitingen 2026
DESCRIPTION:https://www.google.com/maps/search/?api=1&query=Cineplex%2C+Donauwörther+Str.+53%2C+86405+Meitingen
END:VEVENT
END:VCALENDAR