BEGIN:VCALENDAR
VERSION:2.0
PRODID:-//InStaff und Jobs GmbH
BEGIN:VEVENT
UID:97901419a60b2893df557786646f5adc@instaff.jobs
DTSTAMP:20260423T014222Z
LOCATION:Messe München\, Messegelände\, 81823 München
DTSTART;TZID=Europe/Brussels:20260915T070000Z
DTEND;TZID=Europe/Brussels:20260917T160000Z
SUMMARY:expopharm 2026
DESCRIPTION:https://www.google.com/maps/search/?api=1&query=Messe+München%2C+Messegelände%2C+81823+München
END:VEVENT
END:VCALENDAR