BEGIN:VCALENDAR
VERSION:2.0
PRODID:-//InStaff und Jobs GmbH
BEGIN:VEVENT
UID:3e30b04dd2da9c2ddd265e5695a76e24@instaff.jobs
DTSTAMP:20260424T195943Z
LOCATION:Messe München\, Messegelände\, 81823 München
DTSTART;TZID=Europe/Brussels:20260218T070000Z
DTEND;TZID=Europe/Brussels:20260222T160000Z
SUMMARY:f re e 2026
DESCRIPTION:https://www.google.com/maps/search/?api=1&query=Messe+München%2C+Messegelände%2C+81823+München
END:VEVENT
END:VCALENDAR