BEGIN:VCALENDAR
VERSION:2.0
PRODID:-//InStaff und Jobs GmbH
BEGIN:VEVENT
UID:5f92e5bc07242f2fdc4da5fe8c5814de@instaff.jobs
DTSTAMP:20260423T013914Z
LOCATION:MOC Veranstaltungscenter\, Lilienthalallee 40\, 80939 München
DTSTART;TZID=Europe/Brussels:20261022T070000Z
DTEND;TZID=Europe/Brussels:20261023T160000Z
SUMMARY:herCAREER expo 2026
DESCRIPTION:https://www.google.com/maps/search/?api=1&query=MOC+Veranstaltungscenter%2C+Lilienthalallee+40%2C+80939+München
END:VEVENT
END:VCALENDAR