BEGIN:VCALENDAR
VERSION:2.0
PRODID:-//InStaff und Jobs GmbH
BEGIN:VEVENT
UID:6d7266a57515e2fd69d7d4d5650dfd7f@instaff.jobs
DTSTAMP:20260424T195953Z
LOCATION:Messe München\, Am Messesee 2\, 81829 München
DTSTART;TZID=Europe/Brussels:20260116T070000Z
DTEND;TZID=Europe/Brussels:20260118T160000Z
SUMMARY:opti 2026
DESCRIPTION:https://www.google.com/maps/search/?api=1&query=Messe+München%2C+Am+Messesee+2%2C+81829+München
END:VEVENT
END:VCALENDAR