BEGIN:VCALENDAR
VERSION:2.0
PRODID:-//InStaff und Jobs GmbH
BEGIN:VEVENT
UID:a5cacf54d0f80ad72203fbf05d006040@instaff.jobs
DTSTAMP:20260424T200142Z
LOCATION:ICM - Internationales Congress Center München\, Messegelände\, 81823 München
DTSTART;TZID=Europe/Brussels:20260304T070000Z
DTEND;TZID=Europe/Brussels:20260305T160000Z
SUMMARY:Zukunft Handwerk 2026
DESCRIPTION:https://www.google.com/maps/search/?api=1&query=ICM+-+Internationales+Congress+Center+München%2C+Messegelände%2C+81823+München
END:VEVENT
END:VCALENDAR