BEGIN:VCALENDAR
VERSION:2.0
PRODID:-//InStaff und Jobs GmbH
BEGIN:VEVENT
UID:704ac8fa567e64ef033d14d7ef59835f@instaff.jobs
DTSTAMP:20260425T125605Z
LOCATION:Ratiopharm Arena\, Europastraße 25\, 89231 Neu-Ulm
DTSTART;TZID=Europe/Brussels:20260714T070000Z
DTEND;TZID=Europe/Brussels:20260715T160000Z
SUMMARY:vocatium Ulm/Neu-Ulm 2026
DESCRIPTION:https://www.google.com/maps/search/?api=1&query=Ratiopharm+Arena%2C+Europastraße+25%2C+89231+Neu-Ulm
END:VEVENT
END:VCALENDAR