BEGIN:VCALENDAR
VERSION:2.0
PRODID:-//InStaff und Jobs GmbH
BEGIN:VEVENT
UID:ee5bb7553cd86f938f9edc30f99e974a@instaff.jobs
DTSTAMP:20260425T120736Z
LOCATION:Nürnberg Convention Center NCC Ost\, Messezentrum\, 90471 Nürnberg
DTSTART;TZID=Europe/Brussels:20260618T070000Z
DTEND;TZID=Europe/Brussels:20260620T160000Z
SUMMARY:DOC 2026
DESCRIPTION:https://www.google.com/maps/search/?api=1&query=Nürnberg+Convention+Center+NCC+Ost%2C+Messezentrum%2C+90471+Nürnberg
END:VEVENT
END:VCALENDAR