BEGIN:VCALENDAR
VERSION:2.0
PRODID:-//InStaff und Jobs GmbH
BEGIN:VEVENT
UID:f453c5e6cc333759e49d7011d59fd2bb@instaff.jobs
DTSTAMP:20260425T122155Z
LOCATION:Messe Nürnberg\, Messezentrum 1\, 90471 Nürnberg
DTSTART;TZID=Europe/Brussels:20260324T070000Z
DTEND;TZID=Europe/Brussels:20260327T160000Z
SUMMARY:HOLZ-HANDWERK 2026
DESCRIPTION:https://www.google.com/maps/search/?api=1&query=Messe+Nürnberg%2C+Messezentrum+1%2C+90471+Nürnberg
END:VEVENT
END:VCALENDAR