BEGIN:VCALENDAR
VERSION:2.0
PRODID:-//InStaff und Jobs GmbH
BEGIN:VEVENT
UID:df54f5b821168b634f3e9dec1ac1dc58@instaff.jobs
DTSTAMP:20260423T162258Z
LOCATION:Metropolis Halle\, Großbeerenstraße 200\, 14482 Potsdam
DTSTART;TZID=Europe/Brussels:20260929T070000Z
DTEND;TZID=Europe/Brussels:20260930T160000Z
SUMMARY:vocatium Potsdam 2026
DESCRIPTION:https://www.google.com/maps/search/?api=1&query=Metropolis+Halle%2C+Großbeerenstraße+200%2C+14482+Potsdam
END:VEVENT
BEGIN:VEVENT
UID:f1889a5d9f1e0798faee11344b6d3ad5@instaff.jobs
DTSTAMP:20260423T162258Z
LOCATION:Leonardo-da-Vinci-Gesamtschule\, Esplanade 3\, 14469 Potsdam
DTSTART;TZID=Europe/Brussels:20261010T070000Z
DTEND;TZID=Europe/Brussels:20261010T160000Z
SUMMARY:JuBi – Die JugendBildungsmesse Potsdam 2026
DESCRIPTION:https://www.google.com/maps/search/?api=1&query=Leonardo-da-Vinci-Gesamtschule%2C+Esplanade+3%2C+14469+Potsdam
END:VEVENT
BEGIN:VEVENT
UID:4ec0643b3be65f5213d57fd74874ee75@instaff.jobs
DTSTAMP:20260423T162258Z
LOCATION:Schinkelhalle\, Schiffbauergasse 4i\, 14467 Potsdam
DTSTART;TZID=Europe/Brussels:20261024T070000Z
DTEND;TZID=Europe/Brussels:20261025T160000Z
SUMMARY:WEINmesse Potsdam 2026
DESCRIPTION:https://www.google.com/maps/search/?api=1&query=Schinkelhalle%2C+Schiffbauergasse+4i%2C+14467+Potsdam
END:VEVENT
END:VCALENDAR