BEGIN:VCALENDAR
VERSION:2.0
PRODID:-//InStaff und Jobs GmbH
BEGIN:VEVENT
UID:4789037f2cd9457e6132311cdb550c74@instaff.jobs
DTSTAMP:20260420T054806Z
LOCATION:CinemaxX\, Friedenstraße 25\, 93053 Regensburg
DTSTART;TZID=Europe/Brussels:20261013T070000Z
DTEND;TZID=Europe/Brussels:20261013T160000Z
SUMMARY:AZUBISPOT Regensburg 2026
DESCRIPTION:https://www.google.com/maps/search/?api=1&query=CinemaxX%2C+Friedenstraße+25%2C+93053+Regensburg
END:VEVENT
END:VCALENDAR