BEGIN:VCALENDAR
VERSION:2.0
PRODID:-//InStaff und Jobs GmbH
BEGIN:VEVENT
UID:e0491f04a7d0515ebc2c4df1676fb137@instaff.jobs
DTSTAMP:20260420T055109Z
LOCATION:Aurelium Lappersdorf\, Am Anger 1\, 93138 Lappersdorf
DTSTART;TZID=Europe/Brussels:20261017T070000Z
DTEND;TZID=Europe/Brussels:20261017T160000Z
SUMMARY:parentum Regensburg 2026
DESCRIPTION:https://www.google.com/maps/search/?api=1&query=Aurelium+Lappersdorf%2C+Am+Anger+1%2C+93138+Lappersdorf
END:VEVENT
END:VCALENDAR