BEGIN:VCALENDAR
VERSION:2.0
PRODID:-//InStaff und Jobs GmbH
BEGIN:VEVENT
UID:4a3db01e7d6bd362309c8ac4724525af@instaff.jobs
DTSTAMP:20260420T054823Z
LOCATION:Donau-Arena\, Walhalla-Allee 22\, 93059 Regensburg
DTSTART;TZID=Europe/Brussels:20260707T070000Z
DTEND;TZID=Europe/Brussels:20260708T160000Z
SUMMARY:vocatium Regensburg 2026
DESCRIPTION:https://www.google.com/maps/search/?api=1&query=Donau-Arena%2C+Walhalla-Allee+22%2C+93059+Regensburg
END:VEVENT
END:VCALENDAR