BEGIN:VCALENDAR
VERSION:2.0
PRODID:-//InStaff und Jobs GmbH
BEGIN:VEVENT
UID:776e77b7a7726866d1032b2ac949ca3d@instaff.jobs
DTSTAMP:20260424T094004Z
LOCATION:HanseMesse\, Zur Hansemesse 1-2\, 18106 Rostock
DTSTART;TZID=Europe/Brussels:20260313T070000Z
DTEND;TZID=Europe/Brussels:20260315T160000Z
SUMMARY:Bauen & Sanieren - EIGENHEIM Rostock 2026
DESCRIPTION:https://www.google.com/maps/search/?api=1&query=HanseMesse%2C+Zur+Hansemesse+1-2%2C+18106+Rostock
END:VEVENT
END:VCALENDAR