BEGIN:VCALENDAR
VERSION:2.0
PRODID:-//InStaff und Jobs GmbH
BEGIN:VEVENT
UID:b34aed00a1de630427dde7186fd088d6@instaff.jobs
DTSTAMP:20260424T095409Z
LOCATION:HanseMesse\, Zur Hansemesse 1-2\, 18106 Rostock
DTSTART;TZID=Europe/Brussels:20260908T070000Z
DTEND;TZID=Europe/Brussels:20260910T160000Z
SUMMARY:PflegeMesse 2026
DESCRIPTION:https://www.google.com/maps/search/?api=1&query=HanseMesse%2C+Zur+Hansemesse+1-2%2C+18106+Rostock
END:VEVENT
END:VCALENDAR