BEGIN:VCALENDAR
VERSION:2.0
PRODID:-//InStaff und Jobs GmbH
BEGIN:VEVENT
UID:e98de3784021ff57b6dec970649ee689@instaff.jobs
DTSTAMP:20260422T222056Z
LOCATION:HanseMesse\, Zur Hansemesse 1-2\, 18106 Rostock
DTSTART;TZID=Europe/Brussels:20260925T070000Z
DTEND;TZID=Europe/Brussels:20260927T160000Z
SUMMARY:RoBau 2026
DESCRIPTION:https://www.google.com/maps/search/?api=1&query=HanseMesse%2C+Zur+Hansemesse+1-2%2C+18106+Rostock
END:VEVENT
END:VCALENDAR