BEGIN:VCALENDAR
VERSION:2.0
PRODID:-//InStaff und Jobs GmbH
BEGIN:VEVENT
UID:efea5397787c36c9f2a4c9bd36e3ea97@instaff.jobs
DTSTAMP:20260424T093913Z
LOCATION:HanseMesse\, Zur Hansemesse 1-2\, 18106 Rostock
DTSTART;TZID=Europe/Brussels:20260123T070000Z
DTEND;TZID=Europe/Brussels:20260125T160000Z
SUMMARY:SuperStay Live Rostock 2026
DESCRIPTION:https://www.google.com/maps/search/?api=1&query=HanseMesse%2C+Zur+Hansemesse+1-2%2C+18106+Rostock
END:VEVENT
END:VCALENDAR