BEGIN:VCALENDAR
VERSION:2.0
PRODID:-//InStaff und Jobs GmbH
BEGIN:VEVENT
UID:c69c92d90652a8514491a0325d24d1b6@instaff.jobs
DTSTAMP:20260424T003438Z
LOCATION:Im Wizemann\, Quellenstraße 7\, 70376 Stuttgart
DTSTART;TZID=Europe/Brussels:20260130T070000Z
DTEND;TZID=Europe/Brussels:20260131T160000Z
SUMMARY:0711 Spirits 2026
DESCRIPTION:https://www.google.com/maps/search/?api=1&query=Im+Wizemann%2C+Quellenstraße+7%2C+70376+Stuttgart
END:VEVENT
END:VCALENDAR