BEGIN:VCALENDAR
VERSION:2.0
PRODID:-//InStaff und Jobs GmbH
BEGIN:VEVENT
UID:550b97fa45eaa8154dd04edf4b0de16f@instaff.jobs
DTSTAMP:20260425T104415Z
LOCATION:Dillmann-Gymnasium\, Forststraße 43\, 70176 Stuttgart
DTSTART;TZID=Europe/Brussels:20260613T070000Z
DTEND;TZID=Europe/Brussels:20260613T160000Z
SUMMARY:AUF IN DIE WELT Stuttgart (2) 2026
DESCRIPTION:https://www.google.com/maps/search/?api=1&query=Dillmann-Gymnasium%2C+Forststraße+43%2C+70176+Stuttgart
END:VEVENT
END:VCALENDAR