BEGIN:VCALENDAR
VERSION:2.0
PRODID:-//InStaff und Jobs GmbH
BEGIN:VEVENT
UID:dff0e68e6811a893592101e26c024d61@instaff.jobs
DTSTAMP:20260424T003333Z
LOCATION:Messe Stuttgart\, Messepiazza 1\, 70629 Stuttgart
DTSTART;TZID=Europe/Brussels:20260410T070000Z
DTEND;TZID=Europe/Brussels:20260412T160000Z
SUMMARY:Biohacking Days 2026
DESCRIPTION:https://www.google.com/maps/search/?api=1&query=Messe+Stuttgart%2C+Messepiazza+1%2C+70629+Stuttgart
END:VEVENT
END:VCALENDAR