BEGIN:VCALENDAR
VERSION:2.0
PRODID:-//InStaff und Jobs GmbH
BEGIN:VEVENT
UID:79701f01713a18106d4f1c98c72be221@instaff.jobs
DTSTAMP:20260425T104058Z
LOCATION:Messe Stuttgart\, Messepiazza 1\, 70629 Stuttgart
DTSTART;TZID=Europe/Brussels:20261128T070000Z
DTEND;TZID=Europe/Brussels:20261129T160000Z
SUMMARY:Comic Con Stuttgart 2026
DESCRIPTION:https://www.google.com/maps/search/?api=1&query=Messe+Stuttgart%2C+Messepiazza+1%2C+70629+Stuttgart
END:VEVENT
END:VCALENDAR