BEGIN:VCALENDAR
VERSION:2.0
PRODID:-//InStaff und Jobs GmbH
BEGIN:VEVENT
UID:058857432db8226e09374d4daa08f5e7@instaff.jobs
DTSTAMP:20260424T003332Z
LOCATION:Hanns-Martin-Schleyer-Halle\, Mercedesstraße 69\, 70372 Stuttgart
DTSTART;TZID=Europe/Brussels:20260123T070000Z
DTEND;TZID=Europe/Brussels:20260124T160000Z
SUMMARY:einstieg Stuttgart 2026
DESCRIPTION:https://www.google.com/maps/search/?api=1&query=Hanns-Martin-Schleyer-Halle%2C+Mercedesstraße+69%2C+70372+Stuttgart
END:VEVENT
END:VCALENDAR