BEGIN:VCALENDAR
VERSION:2.0
PRODID:-//InStaff und Jobs GmbH
BEGIN:VEVENT
UID:b0c51d018f81a2ce4924ea2ef629c8ae@instaff.jobs
DTSTAMP:20260421T084336Z
LOCATION:GENO-Haus Stuttgart\, Heilbronner Straße 41\, 70191 Stuttgart
DTSTART;TZID=Europe/Brussels:20260417T070000Z
DTEND;TZID=Europe/Brussels:20260417T160000Z
SUMMARY:IT Day Stuttgart 2026
DESCRIPTION:https://www.google.com/maps/search/?api=1&query=GENO-Haus+Stuttgart%2C+Heilbronner+Straße+41%2C+70191+Stuttgart
END:VEVENT
END:VCALENDAR