BEGIN:VCALENDAR
VERSION:2.0
PRODID:-//InStaff und Jobs GmbH
BEGIN:VEVENT
UID:4ef79475f16b027df49332cb8cd15fba@instaff.jobs
DTSTAMP:20260424T003518Z
LOCATION:Carl Benz Arena\, Mercedesstraße 73D\, 70372 Stuttgart
DTSTART;TZID=Europe/Brussels:20260307T070000Z
DTEND;TZID=Europe/Brussels:20260307T160000Z
SUMMARY:Jobmesse Stuttgart 2026
DESCRIPTION:https://www.google.com/maps/search/?api=1&query=Carl+Benz+Arena%2C+Mercedesstraße+73D%2C+70372+Stuttgart
END:VEVENT
END:VCALENDAR