BEGIN:VCALENDAR
VERSION:2.0
PRODID:-//InStaff und Jobs GmbH
BEGIN:VEVENT
UID:47b208ef4bb86a4d8b258bd2f6c28e74@instaff.jobs
DTSTAMP:20260424T003722Z
LOCATION:Albertus-Magnus-Gymnasium\, In den Ringelgärten 90\, 70374 Stuttgart
DTSTART;TZID=Europe/Brussels:20260124T070000Z
DTEND;TZID=Europe/Brussels:20260124T160000Z
SUMMARY:JuBi – Die JugendBildungsmesse Stuttgart 2026
DESCRIPTION:https://www.google.com/maps/search/?api=1&query=Albertus-Magnus-Gymnasium%2C+In+den+Ringelgärten+90%2C+70374+Stuttgart
END:VEVENT
END:VCALENDAR