BEGIN:VCALENDAR
VERSION:2.0
PRODID:-//InStaff und Jobs GmbH
BEGIN:VEVENT
UID:ebd817aa3b23eb6f65a796ed24d6a1e0@instaff.jobs
DTSTAMP:20260424T003632Z
LOCATION:Im Wizemann\, Quellenstraße 7\, 70376 Stuttgart
DTSTART;TZID=Europe/Brussels:20260228T070000Z
DTEND;TZID=Europe/Brussels:20260301T160000Z
SUMMARY:Kunst- und Designmarkt Stuttgart 2026
DESCRIPTION:https://www.google.com/maps/search/?api=1&query=Im+Wizemann%2C+Quellenstraße+7%2C+70376+Stuttgart
END:VEVENT
END:VCALENDAR