BEGIN:VCALENDAR
VERSION:2.0
PRODID:-//InStaff und Jobs GmbH
BEGIN:VEVENT
UID:83775e4fc86222a83cba5c56783bc891@instaff.jobs
DTSTAMP:20260425T104155Z
LOCATION:Cannstatter Wasen\, Mercedesstraße 50\, 70372 Stuttgart
DTSTART;TZID=Europe/Brussels:20260926T070000Z
DTEND;TZID=Europe/Brussels:20261004T160000Z
SUMMARY:LWH 2026
DESCRIPTION:https://www.google.com/maps/search/?api=1&query=Cannstatter+Wasen%2C+Mercedesstraße+50%2C+70372+Stuttgart
END:VEVENT
END:VCALENDAR