BEGIN:VCALENDAR
VERSION:2.0
PRODID:-//InStaff und Jobs GmbH
BEGIN:VEVENT
UID:d49ac24e471421f691e10fb541ab750a@instaff.jobs
DTSTAMP:20260424T002625Z
LOCATION:Messe Stuttgart\, Messepiazza 1\, 70629 Stuttgart
DTSTART;TZID=Europe/Brussels:20260219T070000Z
DTEND;TZID=Europe/Brussels:20260222T160000Z
SUMMARY:RETRO CLASSICS 2026
DESCRIPTION:https://www.google.com/maps/search/?api=1&query=Messe+Stuttgart%2C+Messepiazza+1%2C+70629+Stuttgart
END:VEVENT
END:VCALENDAR