BEGIN:VCALENDAR
VERSION:2.0
PRODID:-//InStaff und Jobs GmbH
BEGIN:VEVENT
UID:7ce4a1c43a75a96eb3c29da841a6b889@instaff.jobs
DTSTAMP:20260424T003436Z
LOCATION:ICS Landesmesse Stuttgart\, Messepiazza 1\, 70629 Stuttgart
DTSTART;TZID=Europe/Brussels:20261125T070000Z
DTEND;TZID=Europe/Brussels:20261126T160000Z
SUMMARY:Structured FINANCE 2026
DESCRIPTION:https://www.google.com/maps/search/?api=1&query=ICS+Landesmesse+Stuttgart%2C+Messepiazza+1%2C+70629+Stuttgart
END:VEVENT
END:VCALENDAR