BEGIN:VCALENDAR
VERSION:2.0
PRODID:-//InStaff und Jobs GmbH
BEGIN:VEVENT
UID:245a85cbe94a1493e3814c10f3c9c18e@instaff.jobs
DTSTAMP:20260424T003636Z
LOCATION:Haus der Wirtschaft\, Willi-Bleicher-Straße 19\, 70174 Stuttgart
DTSTART;TZID=Europe/Brussels:20260312T070000Z
DTEND;TZID=Europe/Brussels:20260312T160000Z
SUMMARY:T5 JobMesse Stuttgart 2026
DESCRIPTION:https://www.google.com/maps/search/?api=1&query=Haus+der+Wirtschaft%2C+Willi-Bleicher-Straße+19%2C+70174+Stuttgart
END:VEVENT
END:VCALENDAR