BEGIN:VCALENDAR
VERSION:2.0
PRODID:-//InStaff und Jobs GmbH
BEGIN:VEVENT
UID:692851ed30161646160ce0a8fec3ac14@instaff.jobs
DTSTAMP:20260424T003500Z
LOCATION:Liederhalle Stuttgart\, Berliner Platz 1-3\, 70174 Stuttgart
DTSTART;TZID=Europe/Brussels:20260110T070000Z
DTEND;TZID=Europe/Brussels:20260111T160000Z
SUMMARY:TrauDich! Stuttgart 2026
DESCRIPTION:https://www.google.com/maps/search/?api=1&query=Liederhalle+Stuttgart%2C+Berliner+Platz+1-3%2C+70174+Stuttgart
END:VEVENT
END:VCALENDAR