BEGIN:VCALENDAR
VERSION:2.0
PRODID:-//InStaff und Jobs GmbH
BEGIN:VEVENT
UID:e77a7f974056a43e3969ed49956b9394@instaff.jobs
DTSTAMP:20260424T002902Z
LOCATION:Messe Stuttgart\, Messepiazza 1\, 70629 Stuttgart
DTSTART;TZID=Europe/Brussels:20261006T070000Z
DTEND;TZID=Europe/Brussels:20261008T160000Z
SUMMARY:VISION 2026
DESCRIPTION:https://www.google.com/maps/search/?api=1&query=Messe+Stuttgart%2C+Messepiazza+1%2C+70629+Stuttgart
END:VEVENT
END:VCALENDAR