BEGIN:VCALENDAR
VERSION:2.0
PRODID:-//InStaff und Jobs GmbH
BEGIN:VEVENT
UID:56f3d71aa51ba4df9473c6aff9095512@instaff.jobs
DTSTAMP:20260425T104332Z
LOCATION:Hanns-Martin-Schleyer-Halle\, Mercedesstraße 69\, 70372 Stuttgart
DTSTART;TZID=Europe/Brussels:20260709T070000Z
DTEND;TZID=Europe/Brussels:20260710T160000Z
SUMMARY:vocatium Stuttgart 2026
DESCRIPTION:https://www.google.com/maps/search/?api=1&query=Hanns-Martin-Schleyer-Halle%2C+Mercedesstraße+69%2C+70372+Stuttgart
END:VEVENT
END:VCALENDAR